BEGIN:VCALENDAR
VERSION:2.0
PRODID:-//hacksw/handcal//NONSGML v1.0//EN
BEGIN:VEVENT
SUMMARY:TAE Chassieu
UID:de99656e-e02a-4fff-a09e-59db7064c8ba
DTSTART:20260412T104500Z
DTEND:20260412T160000Z
LOCATION:Localisation   
CATEGORIES:Sportif
STATUS:
URL;VALUE=URI:https://dianeclub42.sportsregions.fr/evenements/2026/04/12/tae-chassieu-2431995
END:VEVENT
END:VCALENDAR
